BEGIN:VCALENDAR
VERSION:2.0
PRODID:-//ONMB - ECPv6.2.9//NONSGML v1.0//EN
CALSCALE:GREGORIAN
METHOD:PUBLISH
X-ORIGINAL-URL:https://onmb.org
X-WR-CALDESC:Events for ONMB
REFRESH-INTERVAL;VALUE=DURATION:PT1H
X-Robots-Tag:noindex
X-PUBLISHED-TTL:PT1H
BEGIN:VTIMEZONE
TZID:America/Toronto
BEGIN:DAYLIGHT
TZOFFSETFROM:-0500
TZOFFSETTO:-0400
TZNAME:EDT
DTSTART:20200308T070000
END:DAYLIGHT
BEGIN:STANDARD
TZOFFSETFROM:-0400
TZOFFSETTO:-0500
TZNAME:EST
DTSTART:20201101T060000
END:STANDARD
END:VTIMEZONE
BEGIN:VEVENT
DTSTART;TZID=America/Toronto:20201202T090000
DTEND;TZID=America/Toronto:20201202T130000
DTSTAMP:20260424T001918
CREATED:20201028T162704Z
LAST-MODIFIED:20201029T174251Z
UID:50261-1606899600-1606914000@onmb.org
SUMMARY:ONMB Day of Prayer
DESCRIPTION:[vc_row][vc_column][vc_single_image image=”50262″ img_size=”full” alignment=”center”][/vc_column][/vc_row][vc_row][vc_column][mk_padding_divider][vc_column_text css=”.vc_custom_1603993367122{margin-bottom: 0px !important;}”]\nONMB Day of Prayer\nO Come\,  O  Come Emmanuel\nDecember 2\, 2020 @ 9am-1pm (EST)\n \nAdvent is a time of expectant waiting; a time to prepare our hearts\, minds\, and souls for the arrival of the divine King\, the long expected Saviour. \nThe Christian Calendar sets Advent apart as a unique season\, marked with sights\, sounds\, smells\, and rhythms that are aimed to heighten our attentiveness to God by quieting our souls\, slowing down our pace\, and refocusing our attention. \nJoin your fellow MB pastors and ministry leaders in Ontario for this retreat which is designed to minister to your soul. \nOur times of prayer\, reflection\, walking\, and sharing are designed to quiet down the noise and ramped-up pace around us so we can enter Advent ready; and so that we can lead others into the full blessing of joy\, hope\, peace\, and love of God that is so uniquely available in the Advent and Christmas season. \nThis event will be facilitated virtually by Ingrid Reichard\, NFLT Director\, and will be a combination of virtual guidance\, personal prayer and reflection time\, and group sharing and discussion. We hope you can join us. \nA Zoom link for the meeting will be included in your confirmation email once you register. \n[/vc_column_text][/vc_column][/vc_row][vc_row][vc_column][mk_padding_divider][vc_btn title=”Register Here” shape=”round” color=”primary” size=”lg” align=”left” link=”url:https%3A%2F%2Fwww.eventbrite.ca%2Fe%2Fonmb-day-of-prayer-registration-127188972641||target:%20_blank|”][/vc_column][/vc_row]
URL:https://onmb.org/calendar/onmb-day-of-prayer/
LOCATION:Ontario
CATEGORIES:Holistic Gospel Presence
ATTACH;FMTTYPE=image/png:https://onmb.org/wp-content/uploads/2020/10/day-of-prayer-dec2.png
ORGANIZER;CN="ONMB Conference":MAILTO:info@onmb.org
END:VEVENT
END:VCALENDAR