BEGIN:VCALENDAR
VERSION:2.0
PRODID:-//ONMB - ECPv6.2.9//NONSGML v1.0//EN
CALSCALE:GREGORIAN
METHOD:PUBLISH
X-ORIGINAL-URL:https://onmb.org
X-WR-CALDESC:Events for ONMB
REFRESH-INTERVAL;VALUE=DURATION:PT1H
X-Robots-Tag:noindex
X-PUBLISHED-TTL:PT1H
BEGIN:VTIMEZONE
TZID:America/Edmonton
BEGIN:DAYLIGHT
TZOFFSETFROM:-0700
TZOFFSETTO:-0600
TZNAME:MDT
DTSTART:20180311T090000
END:DAYLIGHT
BEGIN:STANDARD
TZOFFSETFROM:-0600
TZOFFSETTO:-0700
TZNAME:MST
DTSTART:20181104T080000
END:STANDARD
END:VTIMEZONE
BEGIN:VEVENT
DTSTART;VALUE=DATE:20180711
DTEND;VALUE=DATE:20180715
DTSTAMP:20260422T060714
CREATED:20180214T011909Z
LAST-MODIFIED:20180214T012744Z
UID:47202-1531267200-1531612799@onmb.org
SUMMARY:Gathering 2018
DESCRIPTION:Gathering 2018\nJuly 11-14\, 2018\nForest Grove Community Church\nSaskatoon\, SK
URL:https://onmb.org/calendar/gathering-2018/
LOCATION:Ontario
CATEGORIES:Convention
ATTACH;FMTTYPE=image/jpeg:https://onmb.org/wp-content/uploads/2018/02/gathering-event-page-banner-thin-frame.jpg
END:VEVENT
END:VCALENDAR