BEGIN:VCALENDAR
VERSION:2.0
PRODID:-//ONMB - ECPv6.2.9//NONSGML v1.0//EN
CALSCALE:GREGORIAN
METHOD:PUBLISH
X-WR-CALNAME:ONMB
X-ORIGINAL-URL:https://onmb.org
X-WR-CALDESC:Events for ONMB
REFRESH-INTERVAL;VALUE=DURATION:PT1H
X-Robots-Tag:noindex
X-PUBLISHED-TTL:PT1H
BEGIN:VTIMEZONE
TZID:America/Edmonton
BEGIN:DAYLIGHT
TZOFFSETFROM:-0700
TZOFFSETTO:-0600
TZNAME:MDT
DTSTART:20180311T090000
END:DAYLIGHT
BEGIN:STANDARD
TZOFFSETFROM:-0600
TZOFFSETTO:-0700
TZNAME:MST
DTSTART:20181104T080000
END:STANDARD
END:VTIMEZONE
BEGIN:VEVENT
DTSTART;VALUE=DATE:20180420
DTEND;VALUE=DATE:20180423
DTSTAMP:20260422T060300
CREATED:20170109T212852Z
LAST-MODIFIED:20180405T172445Z
UID:12646-1524182400-1524441599@onmb.org
SUMMARY:Leaders Collective Urban Encounter | Toronto 2018
DESCRIPTION:Save the date! \nUrban Encounter 2018 \nLocation: Toronto \nApril\, 20-22\, 2018 \nMore information coming soon.
URL:https://onmb.org/calendar/leaders-collective-urban-encounter-toronto-2018/
LOCATION:Ontario
CATEGORIES:Building Community,Developing Leaders,Leaders' Collective,Resourcing Ministries
END:VEVENT
END:VCALENDAR