BEGIN:VCALENDAR
VERSION:2.0
PRODID:-//ONMB - ECPv6.2.9//NONSGML v1.0//EN
CALSCALE:GREGORIAN
METHOD:PUBLISH
X-ORIGINAL-URL:https://onmb.org
X-WR-CALDESC:Events for ONMB
REFRESH-INTERVAL;VALUE=DURATION:PT1H
X-Robots-Tag:noindex
X-PUBLISHED-TTL:PT1H
BEGIN:VTIMEZONE
TZID:America/Toronto
BEGIN:DAYLIGHT
TZOFFSETFROM:-0500
TZOFFSETTO:-0400
TZNAME:EDT
DTSTART:20250309T070000
END:DAYLIGHT
BEGIN:STANDARD
TZOFFSETFROM:-0400
TZOFFSETTO:-0500
TZNAME:EST
DTSTART:20251102T060000
END:STANDARD
END:VTIMEZONE
BEGIN:VEVENT
DTSTART;TZID=America/Toronto:20250227T190000
DTEND;TZID=America/Toronto:20250227T210000
DTSTAMP:20260422T072311
CREATED:20250131T010204Z
LAST-MODIFIED:20250131T010204Z
UID:55483-1740682800-1740690000@onmb.org
SUMMARY:ONMB Online AGM
DESCRIPTION:[vc_row fullwidth=”true”][vc_column width=”1/6″][/vc_column][vc_column width=”2/3″][vc_single_image image=”55582″ img_size=”full” alignment=”center” style=”vc_box_rounded”][mk_fancy_title color=”#000000″ size=”40″ font_weight=”600″ margin_bottom=”0″ font_family=”none” align=”center”]February 27\, 2025 @ 7-9pm[/mk_fancy_title][mk_fancy_title color=”#000000″ size=”25″ font_weight=”600″ margin_bottom=”0″ font_family=”none” align=”center”]Registration Deadline is February 25th![/mk_fancy_title][vc_column_text align=”center” css=”.vc_custom_1738285286360{margin-bottom: 0px !important;}”]*Registration for this event is required to receive the Zoom Link.[/vc_column_text][/vc_column][vc_column width=”1/6″][/vc_column][/vc_row]
URL:https://onmb.org/calendar/agm/
LOCATION:Online Event
ORGANIZER;CN="Ontario Conference of MB Churches":MAILTO:info@onmb.org
END:VEVENT
END:VCALENDAR