BEGIN:VCALENDAR
VERSION:2.0
PRODID:-//ONMB - ECPv6.2.9//NONSGML v1.0//EN
CALSCALE:GREGORIAN
METHOD:PUBLISH
X-ORIGINAL-URL:https://onmb.org
X-WR-CALDESC:Events for ONMB
REFRESH-INTERVAL;VALUE=DURATION:PT1H
X-Robots-Tag:noindex
X-PUBLISHED-TTL:PT1H
BEGIN:VTIMEZONE
TZID:America/Toronto
BEGIN:DAYLIGHT
TZOFFSETFROM:-0500
TZOFFSETTO:-0400
TZNAME:EDT
DTSTART:20240310T070000
END:DAYLIGHT
BEGIN:STANDARD
TZOFFSETFROM:-0400
TZOFFSETTO:-0500
TZNAME:EST
DTSTART:20241103T060000
END:STANDARD
END:VTIMEZONE
BEGIN:VEVENT
DTSTART;VALUE=DATE:20241118
DTEND;VALUE=DATE:20241122
DTSTAMP:20260420T035713
CREATED:20241021T132520Z
LAST-MODIFIED:20241115T182541Z
UID:55193-1731888000-1732233599@onmb.org
SUMMARY:Regional Meetings
DESCRIPTION:[vc_row][vc_column][vc_single_image image=”55127″ img_size=”full” alignment=”center”][vc_column_text css=”.vc_custom_1730401051516{margin-bottom: 0px !important;}”]\nPlease RSVP by November 15th!\n[/vc_column_text][/vc_column][/vc_row]
URL:https://onmb.org/calendar/regional-meetings-2/
LOCATION:Ontario
CATEGORIES:Regional Leaders' Meeting
ORGANIZER;CN="Ontario Conference of MB Churches":MAILTO:info@onmb.org
END:VEVENT
END:VCALENDAR