BEGIN:VCALENDAR
VERSION:2.0
PRODID:-//ONMB - ECPv6.2.9//NONSGML v1.0//EN
CALSCALE:GREGORIAN
METHOD:PUBLISH
X-WR-CALNAME:ONMB
X-ORIGINAL-URL:https://onmb.org
X-WR-CALDESC:Events for ONMB
REFRESH-INTERVAL;VALUE=DURATION:PT1H
X-Robots-Tag:noindex
X-PUBLISHED-TTL:PT1H
BEGIN:VTIMEZONE
TZID:America/Toronto
BEGIN:DAYLIGHT
TZOFFSETFROM:-0500
TZOFFSETTO:-0400
TZNAME:EDT
DTSTART:20240310T070000
END:DAYLIGHT
BEGIN:STANDARD
TZOFFSETFROM:-0400
TZOFFSETTO:-0500
TZNAME:EST
DTSTART:20241103T060000
END:STANDARD
END:VTIMEZONE
BEGIN:VEVENT
DTSTART;VALUE=DATE:20240505
DTEND;VALUE=DATE:20240508
DTSTAMP:20260419T224259
CREATED:20240306T160327Z
LAST-MODIFIED:20260316T135003Z
UID:54518-1714867200-1715126399@onmb.org
SUMMARY:ONMB Pastors & Leaders Retreat
DESCRIPTION:If we live by the Spirit\, let us also keep in step with the Spirit.\nGalatians 5:25\n  \n\nWe long to walk in closer step with the Holy Spirit. We confess it’s far too easy to ‘do the stuff’ of ministry in our own strength\, rather than in the presence and power of God. Let’s join together to walk towards a deeper communion with the Holy Spirit. For ONMB to grow in the fruitfulness of multiplying disciples in this next season\, we need to grow in attentiveness to the Spirit.\n  \n\n\nRetreat Speaker: Derek P. and members of the Multiply First Nations Ministry Team\n\nRetreat Schedule (Tentative):\nMay 5th \n\nArrival between 5-7pm\n\nDinner will not be provided but there are many great little spots in Bala. We will be providing snacks later in the evening.\n\n\nSession 1 begins @ 7pm\nSocial\, Snacks & Fireside\n\nMay 6th \n\nBreakfast provided\nSession 2 @ 9am\nLunch provided\nAfternoon of Rest and Relaxation\n\nThere is so much to do at camp! Enjoy canoeing\, kayaking\, fishing\, hiking\, pickle-ball\, basketball\, frisbee-golf\, ropes course\, and so much more. Bring your mountain bike and enjoy some local trails\, or bring a book and relax on the dock.\n\n\nDinner provided\nSession 3 @ 7pm\nSocial\, Snacks & Fireside\n\nMay 7th \n\nBreakfast provided\nSession 4 @ 9am\nLunch provided\nAfternoon planned activity (optional)\nDepart between 2-3pm\n\n  \nRetreat Costs: \n\nIndividual Rate: $350 per person\nCouples Rate: $600 (Spouses are welcome!)\nMultiple Team Rate: $300 per person (Multiple staff from the same church)
URL:https://onmb.org/calendar/onmb-pastors-leaders-retreat/
LOCATION:Camp Crossroads\, 1224 East Bay Rd.\, Torrance\, Ontario\, P0C 1M0\, Canada
CATEGORIES:Building Community,Developing Leaders
ATTACH;FMTTYPE=image/png:https://onmb.org/wp-content/uploads/2024/03/1.png
ORGANIZER;CN="Ontario Conference of MB Churches":MAILTO:info@onmb.org
END:VEVENT
END:VCALENDAR